BEGIN:VCALENDAR
VERSION:2.0
PRODID:-//BagpipesAndKilts//Event Calendar//EN
CALSCALE:GREGORIAN
BEGIN:VEVENT
SUMMARY:World Pipe Band Championships 2025
DESCRIPTION:The pinnacle of pipe band competitions worldwide, held annually in Glasgow, attracting bands from across the globe.
DTSTART:20250815T040000Z

DTEND:20250816T040000Z

LOCATION:71, 114, 101, 101, 110, 71, 108, 97, 115, 103, 111, 119, 103, 108, 97, 115, 103, 111, 119 
URL:https://www.theworlds.co.uk/
UID:264523387b8d9f1fef9c8dc80a196fc8@bagpipesandkilts.com
END:VEVENT
END:VCALENDAR